BEGIN:VCALENDAR
VERSION:2.0
BEGIN:VEVENT
DTSTART:20231128T150000Z
DTEND:20231128T170000Z
SUMMARY:Support U-M this Giving Tuesday!
DESCRIPTION:Support U-M this Giving Tuesday\n\nOn November 28, 2023, the University of Michigan will join thousands of organizations from across the world by participating in Giving Tuesday! We have dozens of amazing projects from across our campuses that need your support to come to fruition. \n\nBy supporting these impactful projects on Giving Tuesday, you can help earn additional challenge and match money for the causes you donate to!\n\nGive Today!\n\nhttps://donate.umich.edu/xVmmD\n\n
LOCATION:https://donate.umich.edu/xVmmD
END:VEVENT
END:VCALENDAR
